BEGIN:VCALENDAR
VERSION:2.0
PRODID:-//62.113.211.224//NONSGML kigkonsult.se iCalcreator 2.26.9//
CALSCALE:GREGORIAN
METHOD:PUBLISH
X-FROM-URL:https://www.cisst.lu
X-WR-TIMEZONE:Europe/Luxembourg
BEGIN:VTIMEZONE
TZID:Europe/Luxembourg
X-LIC-LOCATION:Europe/Luxembourg
BEGIN:STANDARD
DTSTART:20211031T030000
TZOFFSETFROM:+0200
TZOFFSETTO:+0100
RDATE:20221030T030000
TZNAME:CET
END:STANDARD
BEGIN:DAYLIGHT
DTSTART:20210328T020000
TZOFFSETFROM:+0100
TZOFFSETTO:+0200
RDATE:20220327T020000
TZNAME:CEST
END:DAYLIGHT
END:VTIMEZONE
BEGIN:VEVENT
UID:ai1ec-7336@www.cisst.lu
DTSTAMP:20210723T095230Z
CATEGORIES;LANGUAGE=de-DE:Absences
CONTACT:
DESCRIPTION:
DTSTART;VALUE=DATE:20180823
DTEND;VALUE=DATE:20180831
SEQUENCE:0
SUMMARY:Serge absent
URL:https://www.cisst.lu/Veranstaltung/serge-absent-5/
X-COST-TYPE:free
END:VEVENT
BEGIN:VEVENT
UID:ai1ec-7740@www.cisst.lu
DTSTAMP:20210723T095230Z
CATEGORIES;LANGUAGE=de-DE:Absences
CONTACT:
DESCRIPTION:
DTSTART;VALUE=DATE:20190426
DTEND;VALUE=DATE:20190429
SEQUENCE:0
SUMMARY:Serge absent
URL:https://www.cisst.lu/Veranstaltung/serge-absent-6/
X-COST-TYPE:free
END:VEVENT
BEGIN:VEVENT
UID:ai1ec-7751@www.cisst.lu
DTSTAMP:20210723T095230Z
CATEGORIES;LANGUAGE=de-DE:Absences
CONTACT:
DESCRIPTION:
DTSTART;VALUE=DATE:20190620
DTEND;VALUE=DATE:20190624
SEQUENCE:0
SUMMARY:Serge absent
URL:https://www.cisst.lu/Veranstaltung/serge-absent-7/
X-COST-TYPE:free
END:VEVENT
BEGIN:VEVENT
UID:ai1ec-7798@www.cisst.lu
DTSTAMP:20210723T095230Z
CATEGORIES;LANGUAGE=de-DE:Absences
CONTACT:
DESCRIPTION:
DTSTART;VALUE=DATE:20190902
DTEND;VALUE=DATE:20190916
SEQUENCE:0
SUMMARY:Serge absent
URL:https://www.cisst.lu/Veranstaltung/serge-absent-8/
X-COST-TYPE:free
END:VEVENT
END:VCALENDAR
