BEGIN:VCALENDAR
VERSION:2.0
PRODID:-//62.113.211.224//NONSGML kigkonsult.se iCalcreator 2.26.9//
CALSCALE:GREGORIAN
METHOD:PUBLISH
X-FROM-URL:https://www.cisst.lu
X-WR-TIMEZONE:Europe/Luxembourg
BEGIN:VTIMEZONE
TZID:Europe/Luxembourg
X-LIC-LOCATION:Europe/Luxembourg
BEGIN:STANDARD
DTSTART:20201025T030000
TZOFFSETFROM:+0200
TZOFFSETTO:+0100
RDATE:20211031T030000
TZNAME:CET
END:STANDARD
BEGIN:DAYLIGHT
DTSTART:20210328T020000
TZOFFSETFROM:+0100
TZOFFSETTO:+0200
RDATE:20220327T020000
TZNAME:CEST
END:DAYLIGHT
END:VTIMEZONE
BEGIN:VEVENT
UID:ai1ec-6521@www.cisst.lu
DTSTAMP:20210425T093951Z
CATEGORIES;LANGUAGE=de-DE:Incendie\,Sauvetage
CONTACT:
DESCRIPTION:
DTSTART;TZID=Europe/Luxembourg:20180427T193000
DTEND;TZID=Europe/Luxembourg:20180427T213000
SEQUENCE:0
SUMMARY:Sauvetage: Photovoltaique
URL:https://www.cisst.lu/Veranstaltung/sauvetage-photovoltaique/
X-COST-TYPE:free
END:VEVENT
BEGIN:VEVENT
UID:ai1ec-6503@www.cisst.lu
DTSTAMP:20210425T093951Z
CATEGORIES;LANGUAGE=de-DE:Ambulanz\,Incendie\,Sauvetage
CONTACT:
DESCRIPTION:
DTSTART;TZID=Europe/Luxembourg:20180504T200000
DTEND;TZID=Europe/Luxembourg:20180504T220000
LOCATION:Stengefort
SEQUENCE:0
SUMMARY:Chaîne de commandement
URL:https://www.cisst.lu/Veranstaltung/chaine-de-commandement/
X-COST-TYPE:free
END:VEVENT
BEGIN:VEVENT
UID:ai1ec-6487@www.cisst.lu
DTSTAMP:20210425T093951Z
CATEGORIES;LANGUAGE=de-DE:Incendie
CONTACT:
DESCRIPTION:
DTSTART;TZID=Europe/Luxembourg:20180511T200000
DTEND;TZID=Europe/Luxembourg:20180511T220000
SEQUENCE:0
SUMMARY:Module 2: Wasserförderung
URL:https://www.cisst.lu/Veranstaltung/module-2-wasserfoerderung-3/
X-COST-TYPE:free
END:VEVENT
BEGIN:VEVENT
UID:ai1ec-6488@www.cisst.lu
DTSTAMP:20210425T093951Z
CATEGORIES;LANGUAGE=de-DE:Incendie
CONTACT:
DESCRIPTION:
DTSTART;TZID=Europe/Luxembourg:20180518T200000
DTEND;TZID=Europe/Luxembourg:20180518T220000
SEQUENCE:0
SUMMARY:Module 1: Brandbekämpfung
URL:https://www.cisst.lu/Veranstaltung/module-1-brandbekaempfung-4/
X-COST-TYPE:free
END:VEVENT
BEGIN:VEVENT
UID:ai1ec-6489@www.cisst.lu
DTSTAMP:20210425T093951Z
CATEGORIES;LANGUAGE=de-DE:Aktive Mitglieder
CONTACT:
DESCRIPTION:
DTSTART;TZID=Europe/Luxembourg:20180525T200000
DTEND;TZID=Europe/Luxembourg:20180525T220000
SEQUENCE:0
SUMMARY:Exercice Terrain
URL:https://www.cisst.lu/Veranstaltung/exercice-terrain-5/
X-COST-TYPE:free
END:VEVENT
BEGIN:VEVENT
UID:ai1ec-6490@www.cisst.lu
DTSTAMP:20210425T093951Z
CATEGORIES;LANGUAGE=de-DE:Incendie\,Sauvetage
CONTACT:
DESCRIPTION:
DTSTART;TZID=Europe/Luxembourg:20180601T200000
DTEND;TZID=Europe/Luxembourg:20180601T220000
SEQUENCE:0
SUMMARY:Sauvetage: Auto schneiden
URL:https://www.cisst.lu/Veranstaltung/sauvetage-auto-schneiden/
X-COST-TYPE:free
END:VEVENT
BEGIN:VEVENT
UID:ai1ec-6491@www.cisst.lu
DTSTAMP:20210425T093951Z
CATEGORIES;LANGUAGE=de-DE:Incendie
CONTACT:
DESCRIPTION:
DTSTART;TZID=Europe/Luxembourg:20180608T200000
DTEND;TZID=Europe/Luxembourg:20180608T220000
SEQUENCE:0
SUMMARY:Module 3: Spezialgeräte
URL:https://www.cisst.lu/Veranstaltung/module-3-spezialgeraete-5/
X-COST-TYPE:free
END:VEVENT
BEGIN:VEVENT
UID:ai1ec-6492@www.cisst.lu
DTSTAMP:20210425T093951Z
CATEGORIES;LANGUAGE=de-DE:Incendie
CONTACT:
DESCRIPTION:
DTSTART;TZID=Europe/Luxembourg:20180615T200000
DTEND;TZID=Europe/Luxembourg:20180615T220000
SEQUENCE:0
SUMMARY:Module 2: Wasserförderung
URL:https://www.cisst.lu/Veranstaltung/module-1-brandbekaempfung-anm/
X-COST-TYPE:free
END:VEVENT
BEGIN:VEVENT
UID:ai1ec-6640@www.cisst.lu
DTSTAMP:20210425T093951Z
CATEGORIES;LANGUAGE=de-DE:Jugend\,Verein (a.s.b.l.)
CONTACT:
DESCRIPTION:
DTSTART;TZID=Europe/Luxembourg:20180622T190000
DTEND;TZID=Europe/Luxembourg:20180622T220000
SEQUENCE:0
SUMMARY:Virfeier Nationalfeierdag
URL:https://www.cisst.lu/Veranstaltung/virfeier-nationalfeierdag-2/
X-COST-TYPE:free
END:VEVENT
BEGIN:VEVENT
UID:ai1ec-6494@www.cisst.lu
DTSTAMP:20210425T093951Z
CATEGORIES;LANGUAGE=de-DE:Incendie
CONTACT:
DESCRIPTION:
DTSTART;TZID=Europe/Luxembourg:20180629T200000
DTEND;TZID=Europe/Luxembourg:20180629T220000
SEQUENCE:0
SUMMARY:Module 1: Brandbekämpfung + ANM
URL:https://www.cisst.lu/Veranstaltung/module-2-wasserfoerderung-4/
X-COST-TYPE:free
END:VEVENT
BEGIN:VEVENT
UID:ai1ec-6493@www.cisst.lu
DTSTAMP:20210425T093951Z
CATEGORIES;LANGUAGE=de-DE:Ambulanz\,Incendie\,Sauvetage
CONTACT:
DESCRIPTION:
DTSTART;TZID=Europe/Luxembourg:20180706T190000
DTEND;TZID=Europe/Luxembourg:20180706T220000
SEQUENCE:0
SUMMARY:Exercice Terrain
URL:https://www.cisst.lu/Veranstaltung/exercice-terrain-6/
X-COST-TYPE:free
END:VEVENT
BEGIN:VEVENT
UID:ai1ec-7644@www.cisst.lu
DTSTAMP:20210425T093951Z
CATEGORIES;LANGUAGE=de-DE:Ambulanz\,Incendie\,Sauvetage
CONTACT:
DESCRIPTION:
DTSTART;TZID=Europe/Luxembourg:20181109T200000
DTEND;TZID=Europe/Luxembourg:20181109T220000
SEQUENCE:0
SUMMARY:Team Building
URL:https://www.cisst.lu/Veranstaltung/team-building-2/
X-COST-TYPE:free
END:VEVENT
BEGIN:VEVENT
UID:ai1ec-7645@www.cisst.lu
DTSTAMP:20210425T093951Z
CATEGORIES;LANGUAGE=de-DE:Ambulanz\,Incendie\,Sauvetage
CONTACT:
DESCRIPTION:
DTSTART;TZID=Europe/Luxembourg:20181116T200000
DTEND;TZID=Europe/Luxembourg:20181116T220000
SEQUENCE:0
SUMMARY:Exercice Terrain
URL:https://www.cisst.lu/Veranstaltung/exercice-terrain-7/
X-COST-TYPE:free
END:VEVENT
BEGIN:VEVENT
UID:ai1ec-7646@www.cisst.lu
DTSTAMP:20210425T093951Z
CATEGORIES;LANGUAGE=de-DE:Incendie
CONTACT:
DESCRIPTION:
DTSTART;TZID=Europe/Luxembourg:20181119T200000
DTEND;TZID=Europe/Luxembourg:20181119T220000
LOCATION:CIS Kärch
SEQUENCE:0
SUMMARY:Brandbekämpfung
URL:https://www.cisst.lu/Veranstaltung/brandbekaempfung/
X-COST-TYPE:free
END:VEVENT
BEGIN:VEVENT
UID:ai1ec-7647@www.cisst.lu
DTSTAMP:20210425T093951Z
CATEGORIES;LANGUAGE=de-DE:Incendie
CONTACT:
DESCRIPTION:
DTSTART;TZID=Europe/Luxembourg:20181130T200000
DTEND;TZID=Europe/Luxembourg:20181130T220000
SEQUENCE:0
SUMMARY:Belëfter (Deel 1)
URL:https://www.cisst.lu/Veranstaltung/belefter-deel-1/
X-COST-TYPE:free
END:VEVENT
BEGIN:VEVENT
UID:ai1ec-7648@www.cisst.lu
DTSTAMP:20210425T093951Z
CATEGORIES;LANGUAGE=de-DE:Ambulanz\,Incendie\,Sauvetage\,Verein (a.s.b.l.)
CONTACT:
DESCRIPTION:
DTSTART;TZID=Europe/Luxembourg:20181221T200000
DTEND;TZID=Europe/Luxembourg:20181221T220000
SEQUENCE:0
SUMMARY:Maintenance
URL:https://www.cisst.lu/Veranstaltung/maintenance-10/
X-COST-TYPE:free
END:VEVENT
BEGIN:VEVENT
UID:ai1ec-7649@www.cisst.lu
DTSTAMP:20210425T093951Z
CATEGORIES;LANGUAGE=de-DE:Incendie
CONTACT:
DESCRIPTION:
DTSTART;TZID=Europe/Luxembourg:20181228T200000
DTEND;TZID=Europe/Luxembourg:20181228T220000
SEQUENCE:0
SUMMARY:Spezial Geräter
URL:https://www.cisst.lu/Veranstaltung/spezial-geraeter/
X-COST-TYPE:free
END:VEVENT
BEGIN:VEVENT
UID:ai1ec-7741@www.cisst.lu
DTSTAMP:20210425T093951Z
CATEGORIES;LANGUAGE=de-DE:Incendie
CONTACT:
DESCRIPTION:
DTSTART;TZID=Europe/Luxembourg:20190425T180000
DTEND;TZID=Europe/Luxembourg:20190425T190000
SEQUENCE:0
SUMMARY:Test Foxi
URL:https://www.cisst.lu/Veranstaltung/test-foxi/
X-COST-TYPE:free
END:VEVENT
BEGIN:VEVENT
UID:ai1ec-7744@www.cisst.lu
DTSTAMP:20210425T093951Z
CATEGORIES;LANGUAGE=de-DE:Incendie
CONTACT:
DESCRIPTION:
DTSTART;TZID=Europe/Luxembourg:20190607T200000
DTEND;TZID=Europe/Luxembourg:20190607T220000
SEQUENCE:0
SUMMARY:Wasserförderung
URL:https://www.cisst.lu/Veranstaltung/wasserfoerderung/
X-COST-TYPE:free
END:VEVENT
BEGIN:VEVENT
UID:ai1ec-7746@www.cisst.lu
DTSTAMP:20210425T093951Z
CATEGORIES;LANGUAGE=de-DE:Aktive Mitglieder
CONTACT:
DESCRIPTION:
DTSTART;TZID=Europe/Luxembourg:20190614T200000
DTEND;TZID=Europe/Luxembourg:20190614T220000
SEQUENCE:0
SUMMARY:Exercice Terrain
URL:https://www.cisst.lu/Veranstaltung/exercice-terrain-8/
X-COST-TYPE:free
END:VEVENT
BEGIN:VEVENT
UID:ai1ec-7747@www.cisst.lu
DTSTAMP:20210425T093951Z
CATEGORIES;LANGUAGE=de-DE:Incendie
CONTACT:
DESCRIPTION:
DTSTART;TZID=Europe/Luxembourg:20190621T200000
DTEND;TZID=Europe/Luxembourg:20190621T220000
SEQUENCE:0
SUMMARY:1. Hëllef
URL:https://www.cisst.lu/Veranstaltung/1-hellef/
X-COST-TYPE:free
END:VEVENT
BEGIN:VEVENT
UID:ai1ec-7748@www.cisst.lu
DTSTAMP:20210425T093951Z
CATEGORIES;LANGUAGE=de-DE:Aktive Mitglieder
CONTACT:
DESCRIPTION:
DTSTART;TZID=Europe/Luxembourg:20190628T200000
DTEND;TZID=Europe/Luxembourg:20190628T220000
SEQUENCE:0
SUMMARY:Exercice Terrain
URL:https://www.cisst.lu/Veranstaltung/exercice-terrain-9/
X-COST-TYPE:free
END:VEVENT
BEGIN:VEVENT
UID:ai1ec-7750@www.cisst.lu
DTSTAMP:20210425T093951Z
CATEGORIES;LANGUAGE=de-DE:Aktive Mitglieder\,Jugend
CONTACT:
DESCRIPTION:
DTSTART;TZID=Europe/Luxembourg:20190705T200000
DTEND;TZID=Europe/Luxembourg:20190705T220000
SEQUENCE:0
SUMMARY:Exercice Terrain
URL:https://www.cisst.lu/Veranstaltung/exercice-terrain-10/
X-COST-TYPE:free
END:VEVENT
BEGIN:VEVENT
UID:ai1ec-7927@www.cisst.lu
DTSTAMP:20210425T093951Z
CATEGORIES;LANGUAGE=de-DE:Incendie\,Sauvetage
CONTACT:
DESCRIPTION:
DTSTART;TZID=Europe/Luxembourg:20191115T200000
DTEND;TZID=Europe/Luxembourg:20191115T220000
SEQUENCE:0
SUMMARY:Brandbekämpfung
URL:https://www.cisst.lu/Veranstaltung/brandbekaempfung-2/
X-COST-TYPE:free
END:VEVENT
BEGIN:VEVENT
UID:ai1ec-7928@www.cisst.lu
DTSTAMP:20210425T093951Z
CATEGORIES;LANGUAGE=de-DE:Aktive Mitglieder\,Ambulanz\,Incendie\,Sauvetage
CONTACT:
DESCRIPTION:
DTSTART;TZID=Europe/Luxembourg:20191122T200000
DTEND;TZID=Europe/Luxembourg:20191122T220000
SEQUENCE:0
SUMMARY:Exercice Terrain
URL:https://www.cisst.lu/Veranstaltung/exercice-terrain-11/
X-COST-TYPE:free
END:VEVENT
BEGIN:VEVENT
UID:ai1ec-7925@www.cisst.lu
DTSTAMP:20210425T093951Z
CATEGORIES;LANGUAGE=de-DE:Aktive Mitglieder\,Ambulanz\,Incendie\,Sauvetage
CONTACT:
DESCRIPTION:<p>Übung um 8 Auer zu Äischen\, Kaffi um 7:30 zu Äischen</p>
DTSTART;TZID=Europe/Luxembourg:20191130T080000
DTEND;TZID=Europe/Luxembourg:20191130T120000
LOCATION:Eischen (CIS Hobscheid)
SEQUENCE:0
SUMMARY:Übung SER VU
URL:https://www.cisst.lu/Veranstaltung/uebung-ser-vu/
X-COST-TYPE:free
END:VEVENT
BEGIN:VEVENT
UID:ai1ec-7929@www.cisst.lu
DTSTAMP:20210425T093951Z
CATEGORIES;LANGUAGE=de-DE:Aktive Mitglieder\,Ambulanz\,Incendie\,Sauvetage
CONTACT:
DESCRIPTION:
DTSTART;TZID=Europe/Luxembourg:20191220T200000
DTEND;TZID=Europe/Luxembourg:20191220T220000
SEQUENCE:0
SUMMARY:Maintenance
URL:https://www.cisst.lu/Veranstaltung/maintenance-11/
X-COST-TYPE:free
END:VEVENT
BEGIN:VEVENT
UID:ai1ec-8065@www.cisst.lu
DTSTAMP:20210425T093951Z
CATEGORIES;LANGUAGE=de-DE:Aktive Mitglieder\,Ambulanz\,Incendie\,Sauvetage\
 ,Verein (a.s.b.l.)
CONTACT:
DESCRIPTION:
DTSTART;TZID=Europe/Luxembourg:20200103T200000
DTEND;TZID=Europe/Luxembourg:20200103T220000
LOCATION:CIS Steinfort @ 12\, rue Collart L-8414 STEINFORT
SEQUENCE:0
SUMMARY:Neijoerspatt & Generalprouf Kniddelowend
URL:https://www.cisst.lu/Veranstaltung/neijoerspatt-generalprouf-kniddelowe
 nd/
X-COST-TYPE:free
END:VEVENT
BEGIN:VEVENT
UID:ai1ec-8118@www.cisst.lu
DTSTAMP:20210425T093951Z
CATEGORIES;LANGUAGE=de-DE:Incendie\,Sauvetage
CONTACT:
DESCRIPTION:
DTSTART;TZID=Europe/Luxembourg:20200131T200000
DTEND;TZID=Europe/Luxembourg:20200131T220000
LOCATION:CIS Steinfort
SEQUENCE:0
SUMMARY:1. Hëllef
URL:https://www.cisst.lu/Veranstaltung/1-hellef-2/
X-COST-TYPE:free
END:VEVENT
BEGIN:VEVENT
UID:ai1ec-8119@www.cisst.lu
DTSTAMP:20210425T093951Z
CATEGORIES;LANGUAGE=de-DE:Incendie
CONTACT:
DESCRIPTION:
DTSTART;TZID=Europe/Luxembourg:20200207T200000
DTEND;TZID=Europe/Luxembourg:20200207T220000
LOCATION:CIS Steinfort
SEQUENCE:0
SUMMARY:Wasserförderung
URL:https://www.cisst.lu/Veranstaltung/wasserfoerderung-2/
X-COST-TYPE:free
END:VEVENT
BEGIN:VEVENT
UID:ai1ec-8134@www.cisst.lu
DTSTAMP:20210425T093951Z
CATEGORIES;LANGUAGE=de-DE:Incendie
CONTACT:
DESCRIPTION:
DTSTART;TZID=Europe/Luxembourg:20200214T200000
DTEND;TZID=Europe/Luxembourg:20200214T220000
LOCATION:CIS Steinfort
SEQUENCE:0
SUMMARY:Brandbekämpfung
URL:https://www.cisst.lu/Veranstaltung/brandbekaempfung-3/
X-COST-TYPE:free
END:VEVENT
BEGIN:VEVENT
UID:ai1ec-8135@www.cisst.lu
DTSTAMP:20210425T093951Z
CATEGORIES;LANGUAGE=de-DE:Incendie
CONTACT:
DESCRIPTION:
DTSTART;TZID=Europe/Luxembourg:20200221T200000
DTEND;TZID=Europe/Luxembourg:20200221T220000
SEQUENCE:0
SUMMARY:Spezialgeräte
URL:https://www.cisst.lu/Veranstaltung/spezialgeraete/
X-COST-TYPE:free
END:VEVENT
BEGIN:VEVENT
UID:ai1ec-8136@www.cisst.lu
DTSTAMP:20210425T093951Z
CATEGORIES;LANGUAGE=de-DE:Incendie
CONTACT:
DESCRIPTION:
DTSTART;TZID=Europe/Luxembourg:20200228T200000
DTEND;TZID=Europe/Luxembourg:20200228T220000
LOCATION:CIS Steinfort
SEQUENCE:0
SUMMARY:Team Building
URL:https://www.cisst.lu/Veranstaltung/team-building-3/
X-COST-TYPE:free
END:VEVENT
BEGIN:VEVENT
UID:ai1ec-8399@www.cisst.lu
DTSTAMP:20210425T093951Z
CATEGORIES;LANGUAGE=de-DE:Aktive Mitglieder\,Incendie\,Sauvetage
CONTACT:
DESCRIPTION:
DTSTART;TZID=Europe/Luxembourg:20200807T200000
DTEND;TZID=Europe/Luxembourg:20200807T220000
SEQUENCE:0
SUMMARY:Übung: Sauvetage
URL:https://www.cisst.lu/Veranstaltung/uebung-sauvetage/
X-COST-TYPE:free
END:VEVENT
BEGIN:VEVENT
UID:ai1ec-8400@www.cisst.lu
DTSTAMP:20210425T093951Z
CATEGORIES;LANGUAGE=de-DE:Aktive Mitglieder\,Ambulanz\,Incendie\,Sauvetage
CONTACT:
DESCRIPTION:
DTSTART;TZID=Europe/Luxembourg:20200814T200000
DTEND;TZID=Europe/Luxembourg:20200814T220000
SEQUENCE:0
SUMMARY:Übung: Erklärung PORTAIL & Hygieneskonzept
URL:https://www.cisst.lu/Veranstaltung/uebung-erklaerung-portail-hygienesko
 nzept/
X-COST-TYPE:free
END:VEVENT
BEGIN:VEVENT
UID:ai1ec-8401@www.cisst.lu
DTSTAMP:20210425T093951Z
CATEGORIES;LANGUAGE=de-DE:Aktive Mitglieder\,Ambulanz\,Incendie\,Sauvetage
CONTACT:
DESCRIPTION:
DTSTART;TZID=Europe/Luxembourg:20200821T200000
DTEND;TZID=Europe/Luxembourg:20200821T220000
SEQUENCE:0
SUMMARY:Übung: Erklärung PORTAIL & SER Brand
URL:https://www.cisst.lu/Veranstaltung/uebung-erklaerung-portail-ser-brand/
X-COST-TYPE:free
END:VEVENT
BEGIN:VEVENT
UID:ai1ec-8402@www.cisst.lu
DTSTAMP:20210425T093951Z
CATEGORIES;LANGUAGE=de-DE:Aktive Mitglieder\,Incendie\,Sauvetage
CONTACT:
DESCRIPTION:
DTSTART;TZID=Europe/Luxembourg:20200828T200000
DTEND;TZID=Europe/Luxembourg:20200828T220000
SEQUENCE:0
SUMMARY:Übung: Usaugen ZARO & Pompelen
URL:https://www.cisst.lu/Veranstaltung/uebung-usaugen-zaro-pompelen/
X-COST-TYPE:free
END:VEVENT
BEGIN:VEVENT
UID:ai1ec-8403@www.cisst.lu
DTSTAMP:20210425T093951Z
CATEGORIES;LANGUAGE=de-DE:Aktive Mitglieder\,Incendie\,Sauvetage
CONTACT:
DESCRIPTION:
DTSTART;TZID=Europe/Luxembourg:20200904T200000
DTEND;TZID=Europe/Luxembourg:20200904T220000
SEQUENCE:0
SUMMARY:Übung: 1. Hëllef & TLF Käerch
URL:https://www.cisst.lu/Veranstaltung/uebung-1-hellef-tlf-kaeerch/
X-COST-TYPE:free
END:VEVENT
BEGIN:VEVENT
UID:ai1ec-8404@www.cisst.lu
DTSTAMP:20210425T093951Z
CATEGORIES;LANGUAGE=de-DE:Aktive Mitglieder\,Incendie\,Sauvetage
CONTACT:
DESCRIPTION:
DTSTART;TZID=Europe/Luxembourg:20200912T090000
DTEND;TZID=Europe/Luxembourg:20200912T120000
SEQUENCE:0
SUMMARY:Übung: SER Brand an engem Haus
URL:https://www.cisst.lu/Veranstaltung/uebung-ser-brand-an-engem-haus/
X-COST-TYPE:free
END:VEVENT
BEGIN:VEVENT
UID:ai1ec-8405@www.cisst.lu
DTSTAMP:20210425T093951Z
CATEGORIES;LANGUAGE=de-DE:Aktive Mitglieder\,Ambulanz\,Incendie\,Jugend\,Sa
 uvetage\,Verein (a.s.b.l.)
CONTACT:
DESCRIPTION:
DTSTART;TZID=Europe/Luxembourg:20200917T190000
DTEND;TZID=Europe/Luxembourg:20200917T200000
LOCATION:CIS Steinfort @ 12\, rue Collart L-8414 STEINFORT
SEQUENCE:0
SUMMARY:Mannschaftsversammlung
URL:https://www.cisst.lu/Veranstaltung/mannschaftsversammlung-2/
X-COST-TYPE:free
END:VEVENT
BEGIN:VEVENT
UID:ai1ec-8406@www.cisst.lu
DTSTAMP:20210425T093951Z
CATEGORIES;LANGUAGE=de-DE:Aktive Mitglieder\,Ambulanz\,Incendie\,Jugend\,Sa
 uvetage\,Verein (a.s.b.l.)
CONTACT:
DESCRIPTION:
DTSTART;TZID=Europe/Luxembourg:20200917T200000
DTEND;TZID=Europe/Luxembourg:20200917T213000
LOCATION:CIS Steinfort @ 12\, rue Collart L-8414 STEINFORT
SEQUENCE:0
SUMMARY:Generalversammlung 2019
URL:https://www.cisst.lu/Veranstaltung/generalversammlung-2019/
X-COST-TYPE:free
END:VEVENT
BEGIN:VEVENT
UID:ai1ec-8407@www.cisst.lu
DTSTAMP:20210425T093951Z
CATEGORIES;LANGUAGE=de-DE:Aktive Mitglieder\,Incendie\,Sauvetage
CONTACT:
DESCRIPTION:
DTSTART;TZID=Europe/Luxembourg:20200925T193000
DTEND;TZID=Europe/Luxembourg:20200925T223000
SEQUENCE:0
SUMMARY:Übung: SER Brand an engem Haus
URL:https://www.cisst.lu/Veranstaltung/uebung-wasserfoerderung/
X-COST-TYPE:free
END:VEVENT
BEGIN:VEVENT
UID:ai1ec-8408@www.cisst.lu
DTSTAMP:20210425T093951Z
CATEGORIES;LANGUAGE=de-DE:Aktive Mitglieder\,Incendie\,Sauvetage
CONTACT:
DESCRIPTION:
DTSTART;TZID=Europe/Luxembourg:20201002T200000
DTEND;TZID=Europe/Luxembourg:20201002T220000
SEQUENCE:0
SUMMARY:Übung: Spezialgeräte
URL:https://www.cisst.lu/Veranstaltung/uebung-spezialgeraete/
X-COST-TYPE:free
END:VEVENT
BEGIN:VEVENT
UID:ai1ec-8409@www.cisst.lu
DTSTAMP:20210425T093951Z
CATEGORIES;LANGUAGE=de-DE:Aktive Mitglieder\,Incendie\,Sauvetage
CONTACT:
DESCRIPTION:
DTSTART;TZID=Europe/Luxembourg:20201009T200000
DTEND;TZID=Europe/Luxembourg:20201009T220000
SEQUENCE:0
SUMMARY:Übung: Team Building
URL:https://www.cisst.lu/Veranstaltung/uebung-teambuilding/
X-COST-TYPE:free
END:VEVENT
BEGIN:VEVENT
UID:ai1ec-8410@www.cisst.lu
DTSTAMP:20210425T093951Z
CATEGORIES;LANGUAGE=de-DE:Aktive Mitglieder\,Incendie\,Sauvetage
CONTACT:
DESCRIPTION:
DTSTART;TZID=Europe/Luxembourg:20201016T200000
DTEND;TZID=Europe/Luxembourg:20201016T220000
SEQUENCE:0
SUMMARY:Übung: 1. Hëllef
URL:https://www.cisst.lu/Veranstaltung/uebung-1-hellef/
X-COST-TYPE:free
END:VEVENT
BEGIN:VEVENT
UID:ai1ec-8425@www.cisst.lu
DTSTAMP:20210425T093951Z
CATEGORIES;LANGUAGE=de-DE:Jugend\,Verein (a.s.b.l.)
CONTACT:
DESCRIPTION:<p><strong>RDV:</strong> 09:45 Auer am Zenter</p>\n<p><strong>T
 enue:</strong> Zenteruniform</p>\n<p> </p>\n<p><span style='text-decoratio
 n: underline\; font-size: 14pt\;'><strong>UN ÄR MASK DENKEN W.E.G.</strong
 ></span></p>\n<p> </p>\n<p>dono Apéro.</p>
DTSTART;TZID=Europe/Luxembourg:20201018T094500
DTEND;TZID=Europe/Luxembourg:20201018T120000
LOCATION:CIS Steinfort @ 12\, rue Collart L-8414 Steinfort
SEQUENCE:0
SUMMARY:Kommioun (Spaleier)
URL:https://www.cisst.lu/Veranstaltung/kommioun-spaleier/
X-COST-TYPE:free
END:VEVENT
BEGIN:VEVENT
UID:ai1ec-8461@www.cisst.lu
DTSTAMP:20210425T093951Z
CATEGORIES;LANGUAGE=de-DE:Aktive Mitglieder\,Ambulanz\,Incendie\,Sauvetage\
 ,Verein (a.s.b.l.)
CONTACT:
DESCRIPTION:
DTSTART;TZID=Europe/Luxembourg:20210319T200000
DTEND;TZID=Europe/Luxembourg:20210319T220000
LOCATION:Centre Culturel „An de Keeseminen“ Stengefort @ rue Collart L-8414
  STEINFORT
SEQUENCE:0
SUMMARY:Generalversammlung 2020
URL:https://www.cisst.lu/Veranstaltung/generalversammlung-2020/
X-COST-TYPE:free
END:VEVENT
BEGIN:VEVENT
UID:ai1ec-8476@www.cisst.lu
DTSTAMP:20210425T093951Z
CATEGORIES;LANGUAGE=de-DE:Aktive Mitglieder\,Verein (a.s.b.l.)
CONTACT:
DESCRIPTION:
DTSTART;TZID=Europe/Luxembourg:20210320T150000
DTEND;TZID=Europe/Luxembourg:20210320T180000
LOCATION:CIS Steinfort
SEQUENCE:0
SUMMARY:Drive-In: Zenteriessen @Home
URL:https://www.cisst.lu/Veranstaltung/drive-in-zenteriessen-home/
X-COST-TYPE:free
END:VEVENT
BEGIN:VEVENT
UID:ai1ec-8487@www.cisst.lu
DTSTAMP:20210425T093951Z
CATEGORIES;LANGUAGE=de-DE:Aktive Mitglieder\,Ambulanz\,Incendie\,Sauvetage
CONTACT:
DESCRIPTION:<blockquote><p>19:00-20:00 fir SAP-Leit</p>\n<p>Ab 20:00 fir al
 l aktive Member</p></blockquote>
DTSTART;TZID=Europe/Luxembourg:20210420T190000
DTEND;TZID=Europe/Luxembourg:20210420T220000
LOCATION:Centre Culturel „An de Keeseminen“ @ rue Collart L-8414 STEINFORT
SEQUENCE:0
SUMMARY:Mannschaftsversammlung (Aktiven Dingscht)
URL:https://www.cisst.lu/Veranstaltung/mannschaftsversammlung-aktiven-dings
 cht/
X-COST-TYPE:free
END:VEVENT
END:VCALENDAR
